BEGIN:VCALENDAR
VERSION:2.0
PRODID:icalendar-ruby
CALSCALE:GREGORIAN
METHOD:PUBLISH
BEGIN:VEVENT
DTSTAMP:20260425T012539Z
UID:12-1289436@augustanalutheran.com
DTSTART:20261029T000000Z
DTEND:20261029T010000Z
CLASS:PUBLIC
CREATED:20260424T183112
DESCRIPTION:
LAST-MODIFIED:20260424T183112
LOCATION:Fellowship Hall
SUMMARY:A.A.
URL;VALUE=URI:https://augustanalutheran.com/events/a-a--12/2026-10-28
ATTACH;FILENAME=AA.jpg;FMTTYPE=image/jpeg:https://dq5pwpg1q8ru0.cloudfront.
 net/2024/06/06/15/00/25/0c549ef2-b5bb-40e8-958c-a768591307db/AA.jpg
END:VEVENT
END:VCALENDAR
